BEGIN:VCALENDAR
VERSION:2.0
PRODID:-//Tampered Motorsport - ECPv6.15.20//NONSGML v1.0//EN
CALSCALE:GREGORIAN
METHOD:PUBLISH
X-WR-CALNAME:Tampered Motorsport
X-ORIGINAL-URL:https://tamperedmotorsport.com
X-WR-CALDESC:Events for Tampered Motorsport
REFRESH-INTERVAL;VALUE=DURATION:PT1H
X-Robots-Tag:noindex
X-PUBLISHED-TTL:PT1H
BEGIN:VTIMEZONE
TZID:Australia/Melbourne
BEGIN:STANDARD
TZOFFSETFROM:+1100
TZOFFSETTO:+1000
TZNAME:AEST
DTSTART:20250405T160000
END:STANDARD
BEGIN:DAYLIGHT
TZOFFSETFROM:+1000
TZOFFSETTO:+1100
TZNAME:AEDT
DTSTART:20251004T160000
END:DAYLIGHT
BEGIN:STANDARD
TZOFFSETFROM:+1100
TZOFFSETTO:+1000
TZNAME:AEST
DTSTART:20260404T160000
END:STANDARD
BEGIN:DAYLIGHT
TZOFFSETFROM:+1000
TZOFFSETTO:+1100
TZNAME:AEDT
DTSTART:20261003T160000
END:DAYLIGHT
BEGIN:STANDARD
TZOFFSETFROM:+1100
TZOFFSETTO:+1000
TZNAME:AEST
DTSTART:20270403T160000
END:STANDARD
BEGIN:DAYLIGHT
TZOFFSETFROM:+1000
TZOFFSETTO:+1100
TZNAME:AEDT
DTSTART:20271002T160000
END:DAYLIGHT
END:VTIMEZONE
BEGIN:VEVENT
DTSTART;VALUE=DATE:20260426
DTEND;VALUE=DATE:20260427
DTSTAMP:20260425T022956
CREATED:20250824T081717Z
LAST-MODIFIED:20260418T081640Z
UID:1768-1777161600-1777247999@tamperedmotorsport.com
SUMMARY:Calder Park Track Day - SOLD OUT!
DESCRIPTION:SOLD OUT!
URL:https://tamperedmotorsport.com/event/sandown-track-day-5/
LOCATION:Calder Parkl Raceway\, 377 Calder Fwy\, Calder Park\, Victoria\, 3037\, Australia
ORGANIZER;CN="Tampered Motorsport":MAILTO:info@tamperedmotorsport.com
END:VEVENT
BEGIN:VEVENT
DTSTART;VALUE=DATE:20260524
DTEND;VALUE=DATE:20260525
DTSTAMP:20260425T022956
CREATED:20240418T091028Z
LAST-MODIFIED:20260423T041423Z
UID:1405-1779580800-1779667199@tamperedmotorsport.com
SUMMARY:Calder Park Track Day
DESCRIPTION:Please enable JavaScript in your browser to complete this form. - Step 1 of 6Owners & Drivers Declarations:\nWarning of Risks\n  \nI acknowledge and agree motorsport is dangerous and recognize that accidents can and will happen. \nI also accept and agree as a condition of entry that the Promoters\, and any ancillary parties\, officials\, representatives or agents shall NOT be under any liability for my death\, or any bodily injury\, loss or damage to my property which may be sustained or incurred by me as a result of my participation in or being present at the event. \nI advise that I will not undertake any activities unless I consider the Track to be in a safe condition for the Activity. By using the Track I indicate my acceptance of the Tracks condition. If an act or occurrence in which I am involved or observe reduces the safety of the Track I will immediately notify Promoter and warn other track users of the danger and/or increased risk. \nShould any incident occur because of my failure to observe an officials directive from which a successful claim is made under any insurance policy relating to the Track and an excess premium or deductible is charged by the insurer of the Track I will pay in full the excess or deductible under such insurance policy except to the extent that it is paid by a third party. \nI understand & accept the Promoters has the right to terminate my participation in the event at any time for any reason it sees fit at the time. \nI declare that I agree to abide by the conditions\, have read and understood these warnings\, and accept all the inherent risks and danger in the event and the activities surrounding the event. \nI understand and agree that if I cancel within 1 week of the event there will be a $50 cancellation fee except if I cancel within 48 hours of 8am of the day of the event\, in which case there will be no refund. If I cancel prior to one week from the event I will be entitled to a full refund less any third party merchant fees. If you contract COVID-19 or are caused to isolate because of COVID-19\, the fore mentioned policy will also apply. \n  Drivers Signature *\n				\n					\n				\n				Clear Signature\n			I\, being the responsible owner of the car described herein certify that the vehicle meets the events requirement and meets or exceeds safety requirements. I certify that the answers on this form are correct in every particular. Owners Signature\n				\n					\n				\n				Clear Signature\n			NextCONDITIONS OF ENTRY - PLEASE READ \nCompetitors and Crew \nThe ONLY acceptable blood/alcohol reading is 0.00! \nOfficials may test you at any time. \nAny positive BAC reading is immediate exclusion from the rest of the event. \nConsumption of alcohol or the use of any substance capable of impairing skill & good judgement may only be consumed within the designated areas. Consumption or use by ANY competitor\, crew\, official\, or support person is strictly prohibited before & during an Activity. \nPromoters have the right to expel any person from the event & the Venue that they consider to be acting in a manner which endangers or impacts on other peoples enjoyment of the event activities or causes a complaint to be brought to the Promoters via the officials. \nClothing for drivers and crew must be appropriate for the motorsport Activity being undertaken. This means at least enclosed footwear with full coverage from ankle to wrist to neck for drivers and any crew working on the vehicle. \nRacing Drivers must wear FIA or SFI approved apparel for all race activities & competition. Helmets must meet or surpass the AS1698 requirements. Roll over protections systems must meet the standards of the category/activity the car participates in. \nWesthold transmitters must be fitted to all RACING vehicles.  \nOfficials are volunteers giving their time so you can enjoy your sport and shall be treated with due respect. Officials directions must be followed promptly\, with full compliance and in good grace. Any driver or crew that has a problem with a direction from an Officialshall carry out that direction immediately and then raise the issue with the Promoter for its consideration. \nVehicles must be driven SLOWLY at all times and in ALL AREAS until they are actually competing or participating in an event. This means MAX SPEED IN PIT LANE IS 10 KPH up to the exit line and IN ALL OTHER AREAS. Drivers exceeding these limits should expect to be at least cautioned or not permitted to start in one or runs and potentially be expelled from the Venue. \nNobody under the age of 14 is permitted inside the General Pit Lane area without close adult supervision. Children 5 or under MUST be carried at all times. Children may be excluded from Pit Lane at the direction of an official. \nSafety Scrutineers require the car to be properly prepared for the event. This includes steering and brakes\, especially pads and fluid and all safety equipment especially seats & restraints shall be in excellent condition. Race apparel must be in excellent condition. \nFire extinguishers\, when fitted to a road car\, must be secured in the passenger side foot well within reach of the driver with quick release fittings capable of holding the extinguisher in place at 40G. \nAll loose items must be removed from the vehicle prior to leaving pit lane especially drink bottles and items dangling off rear vision mirrors. \nDrivers must hold a Civil Licence and/or a Competition Licence issued by a recognized organisation that is appropriate to the level of the Activity being undertaken. Non-RACERS licence holders will be asked to contribute to the Personal Accident Insurance. \nNo animals are permitted into the Venue during an event unless they are part of the event and have written permission from the management to be on the premises. \nThe closing time for entries is the latest time an entry can be received and processed by the Promoter. \nRACERS runs events with three whole of track safety conditions. They are Caution; Clampdown & Cancel you must understand & accept your responsibilities under each of these conditions before you enter the track. \nRACERS overarching objective is to bring fun to recreational motorsport at the lowest possible price to our customers we seek your support to achieve this by asking you to help us look after our Venues\, facilities and equipment. \nI/we AGREE to abide by the above: I am entering for? *Sunday - May 24th - $275.70Driver Name *Phone *Address *Address Line 1Address Line 2CityState / Province / RegionPostal CodeEmail *EmailConfirm EmailGender *MaleFemaleOtherDate of Birth *DD12345678910111213141516171819202122232425262728293031MM123456789101112YYYY202720262025202420232022202120202019201820172016201520142013201220112010200920082007200620052004200320022001200019991998199719961995199419931992199119901989198819871986198519841983198219811980197919781977197619751974197319721971197019691968196719661965196419631962196119601959195819571956195519541953195219511950194919481947194619451944194319421941194019391938193719361935193419331932193119301929192819271926192519241923192219211920Experience *Never been on any Track BeforeBeginnerIntermediateAdvanced \n\nRACERS Cubman licence can be purchased from www.racers.world \nor a Single Event Licence can also be purchased \nPlease note that only RACERS and AASA licences are accepted at these days. \nDo you have a competiotion licence? *RACERSAASANo (Please Purchase one from the Link above)Licence NumberLicence Expiry DateNextMake & Model of Car *Engine Capaciy *Colour *Preferred Race NumberSponsorPrevious Best Lap Time Which Track?SandownWintonCalderDriver Signature *\n				\n					\n				\n				Clear Signature\n			NextEMERGENCY CONTACT *FirstLastEmergency Contact Phone: *Relationship to Driver: *Is the Driver a Minor?NoYesDrivers Must be over the age of 14\, and must be accompanied by a parent or LEGAL Guardian.\nParent(s) or court-appointed legal guardian(s) must sign for any participating minor (those under 18 years of age) and agree that they and the minor are subject to all the terms of this document\, as set forth above.Parent or Guardian NameFirstLastParent or Guardian Signature\n				\n					\n				\n				Clear Signature\n			NextCheckboxes *By checking here\, you are consenting to the use of your electronic signature in lieu of an original signature on paper. You have the right to request that you sign a paper copy instead. By checking here\, you are waiving that right. After consent\, you may\, upon written request to us\, obtain a paper copy of an electronic record. No fee will be charged for such copy and no special hardware or software is required to view it. Your agreement to use an electronic signature with us for any documents will continue until such time as you notify us in writing that you no longer wish to use an electronic signature. There is no penalty for withdrawing your consent. You should always make sure that we have a current email address in order to contact you regarding any changes\, if necessary.NextWhat is Rain Check \n\nOur Rain Check program has been put in place to benefit the competitor and must be to purchased with your entry to the event. This insures you against losing the cost of your entry fee due to circumstances outside of your control. \n\nThings happen\, we get that and sometimes it is out of your control. The Rain Check will cover you for things like:• Maybe it might rain• Parts not arriving• Medical issues• Family or Friends passing• Work getting in the ay of a good time \n\nWhatever the circumstances\, the Rain Check cover gives you peace of mind that you have flexibility to cancel your entry and re-enter for another date on the calendar\, as long as you let us know by 8am on the day of the event\, either in person at the track or via email\, you will receive a full refund of the entry fee less any card surcharges and the cost of the Rain Check. \n\nWhat is not covered.• Not turning up on the day• Any incident at the event\, on track or off• Another driver\, non-transferable. Even if drivers a sharing a car this is per driver  I would like to opt in for the Rain Check? *Yes - $66.37No Thanks - $0.00GARAGE BOOKING? *No Thanks - $0.00Yes - $71.48Total$0.00Coupon\n				\n					\n				\n				Apply\n			\n			PaymentCardName on CardPhoneSubmit
URL:https://tamperedmotorsport.com/event/calder-track-day/
LOCATION:Calder Parkl Raceway\, 377 Calder Fwy\, Calder Park\, Victoria\, 3037\, Australia
ORGANIZER;CN="Tampered Motorsport":MAILTO:info@tamperedmotorsport.com
END:VEVENT
BEGIN:VEVENT
DTSTART;VALUE=DATE:20260705
DTEND;VALUE=DATE:20260706
DTSTAMP:20260425T022956
CREATED:20250130T233724Z
LAST-MODIFIED:20260423T041503Z
UID:1636-1783209600-1783295999@tamperedmotorsport.com
SUMMARY:Calder Park Track Day
DESCRIPTION:
URL:https://tamperedmotorsport.com/event/calder-park-track-day/
LOCATION:Calder Parkl Raceway\, 377 Calder Fwy\, Calder Park\, Victoria\, 3037\, Australia
ORGANIZER;CN="Tampered Motorsport":MAILTO:info@tamperedmotorsport.com
END:VEVENT
BEGIN:VEVENT
DTSTART;VALUE=DATE:20260809
DTEND;VALUE=DATE:20260810
DTSTAMP:20260425T022956
CREATED:20260413T035822Z
LAST-MODIFIED:20260413T035822Z
UID:1860-1786233600-1786319999@tamperedmotorsport.com
SUMMARY:Calder Park Track Day
DESCRIPTION:
URL:https://tamperedmotorsport.com/event/calder-park-track-day-2/
LOCATION:Calder Parkl Raceway\, 377 Calder Fwy\, Calder Park\, Victoria\, 3037\, Australia
ORGANIZER;CN="Tampered Motorsport":MAILTO:info@tamperedmotorsport.com
END:VEVENT
BEGIN:VEVENT
DTSTART;VALUE=DATE:20260906
DTEND;VALUE=DATE:20260907
DTSTAMP:20260425T022956
CREATED:20260413T035928Z
LAST-MODIFIED:20260413T035928Z
UID:1862-1788652800-1788739199@tamperedmotorsport.com
SUMMARY:Calder Park Track Day - Limited Numbers
DESCRIPTION:
URL:https://tamperedmotorsport.com/event/calder-park-track-day-limited-numbers/
LOCATION:Calder Parkl Raceway\, 377 Calder Fwy\, Calder Park\, Victoria\, 3037\, Australia
ORGANIZER;CN="Tampered Motorsport":MAILTO:info@tamperedmotorsport.com
END:VEVENT
BEGIN:VEVENT
DTSTART;VALUE=DATE:20261108
DTEND;VALUE=DATE:20261109
DTSTAMP:20260425T022956
CREATED:20240615T024740Z
LAST-MODIFIED:20260413T040028Z
UID:1440-1794096000-1794182399@tamperedmotorsport.com
SUMMARY:Calder Park Track Day
DESCRIPTION:
URL:https://tamperedmotorsport.com/event/sandown-track-day/
LOCATION:Calder Parkl Raceway\, 377 Calder Fwy\, Calder Park\, Victoria\, 3037\, Australia
ORGANIZER;CN="Tampered Motorsport":MAILTO:info@tamperedmotorsport.com
END:VEVENT
BEGIN:VEVENT
DTSTART;VALUE=DATE:20261220
DTEND;VALUE=DATE:20261221
DTSTAMP:20260425T022956
CREATED:20240615T025320Z
LAST-MODIFIED:20260413T040750Z
UID:1450-1797724800-1797811199@tamperedmotorsport.com
SUMMARY:Calder Park Christmas Track Day
DESCRIPTION:
URL:https://tamperedmotorsport.com/event/sandown-christmas-track-day/
LOCATION:Calder Parkl Raceway\, 377 Calder Fwy\, Calder Park\, Victoria\, 3037\, Australia
END:VEVENT
END:VCALENDAR